BEGIN:VCALENDAR
VERSION:2.0
PRODID:-//O&#039;Fallon Historical Museum - ECPv6.15.20//NONSGML v1.0//EN
CALSCALE:GREGORIAN
METHOD:PUBLISH
X-WR-CALNAME:O&#039;Fallon Historical Museum
X-ORIGINAL-URL:https://ofallonmuseum.com
X-WR-CALDESC:Events for O&#039;Fallon Historical Museum
REFRESH-INTERVAL;VALUE=DURATION:PT1H
X-Robots-Tag:noindex
X-PUBLISHED-TTL:PT1H
BEGIN:VTIMEZONE
TZID:America/Denver
BEGIN:DAYLIGHT
TZOFFSETFROM:-0700
TZOFFSETTO:-0600
TZNAME:MDT
DTSTART:20250309T090000
END:DAYLIGHT
BEGIN:STANDARD
TZOFFSETFROM:-0600
TZOFFSETTO:-0700
TZNAME:MST
DTSTART:20251102T080000
END:STANDARD
BEGIN:DAYLIGHT
TZOFFSETFROM:-0700
TZOFFSETTO:-0600
TZNAME:MDT
DTSTART:20260308T090000
END:DAYLIGHT
BEGIN:STANDARD
TZOFFSETFROM:-0600
TZOFFSETTO:-0700
TZNAME:MST
DTSTART:20261101T080000
END:STANDARD
BEGIN:DAYLIGHT
TZOFFSETFROM:-0700
TZOFFSETTO:-0600
TZNAME:MDT
DTSTART:20270314T090000
END:DAYLIGHT
BEGIN:STANDARD
TZOFFSETFROM:-0600
TZOFFSETTO:-0700
TZNAME:MST
DTSTART:20271107T080000
END:STANDARD
END:VTIMEZONE
BEGIN:VEVENT
DTSTART;TZID=America/Denver:20260416T100000
DTEND;TZID=America/Denver:20260522T104500
DTSTAMP:20260424T162356
CREATED:20260227T184218Z
LAST-MODIFIED:20260227T184218Z
UID:2000-1776333600-1779446700@ofallonmuseum.com
SUMMARY:Pre-School Playtime at the Museum
DESCRIPTION:Pre-School Playtime at the Museum returns this spring with a fun\, engaging program designed especially for children ages 3–5 and their caregivers. Each session blends music\, movement\, stories\, simple crafts\, and hands-on learning inspired by history\, nature\, and creativity. \nJoin us for a relaxed\, playful morning that encourages curiosity\, imagination\, and social interaction in a welcoming museum setting. \nDates: Starting April 16Time: Thursdays or Fridays\, 10:00–10:45 AMRegistration: Sign up through the Baker Chamber Rec Department or find details on Facebook. \nBaker Chamber Rec Department
URL:https://ofallonmuseum.com/event/pre-school-playtime-at-the-museum/
LOCATION:O’Fallon Historical Museum\, 718 S. Main\, Baker\, MT\, 59313\, United States
CATEGORIES:Kids,Rec Department
ATTACH;FMTTYPE=image/png:https://ofallonmuseum.com/wp-content/uploads/2026/02/Playtime-at-the-Museum-e1772217695733.png
END:VEVENT
END:VCALENDAR