BEGIN:VCALENDAR
VERSION:2.0
PRODID:-//O&#039;Fallon Historical Museum - ECPv6.15.20//NONSGML v1.0//EN
CALSCALE:GREGORIAN
METHOD:PUBLISH
X-WR-CALNAME:O&#039;Fallon Historical Museum
X-ORIGINAL-URL:https://ofallonmuseum.com
X-WR-CALDESC:Events for O&#039;Fallon Historical Museum
REFRESH-INTERVAL;VALUE=DURATION:PT1H
X-Robots-Tag:noindex
X-PUBLISHED-TTL:PT1H
BEGIN:VTIMEZONE
TZID:America/Denver
BEGIN:DAYLIGHT
TZOFFSETFROM:-0700
TZOFFSETTO:-0600
TZNAME:MDT
DTSTART:20250309T090000
END:DAYLIGHT
BEGIN:STANDARD
TZOFFSETFROM:-0600
TZOFFSETTO:-0700
TZNAME:MST
DTSTART:20251102T080000
END:STANDARD
BEGIN:DAYLIGHT
TZOFFSETFROM:-0700
TZOFFSETTO:-0600
TZNAME:MDT
DTSTART:20260308T090000
END:DAYLIGHT
BEGIN:STANDARD
TZOFFSETFROM:-0600
TZOFFSETTO:-0700
TZNAME:MST
DTSTART:20261101T080000
END:STANDARD
BEGIN:DAYLIGHT
TZOFFSETFROM:-0700
TZOFFSETTO:-0600
TZNAME:MDT
DTSTART:20270314T090000
END:DAYLIGHT
BEGIN:STANDARD
TZOFFSETFROM:-0600
TZOFFSETTO:-0700
TZNAME:MST
DTSTART:20271107T080000
END:STANDARD
END:VTIMEZONE
BEGIN:VEVENT
DTSTART;TZID=America/Denver:20260411T160000
DTEND;TZID=America/Denver:20260411T180000
DTSTAMP:20260424T151234
CREATED:20260108T230147Z
LAST-MODIFIED:20260309T190246Z
UID:1976-1775923200-1775930400@ofallonmuseum.com
SUMMARY:Ben Larson "Off the Beaten Path: The Lost History of Montana"
DESCRIPTION:ALL AGES SHOW\n4:00pm – 6:00pm\nWant to hear the story of the Miles City Ice Jam Bombing\, the Murder at the Hasmark Saloon or Montana’s first recorded UFO sighting? Join Ben Larson\, Philipburg’s only working musician\, not-quite-cowboy poet and historian of the weird and forgotten tales for a presentation of “Off the Beaten Path; The Lost History of Montana.” \nBen has traveled to every corner of the state\, visiting small museums\, meeting old-timers and collecting stories from all walks of life. From Plentywood to Thompson Falls\, this 2 hour show explores Montana history\, geography and culture in song\, poem and story form. Designed for old hotels\, museums\, libraries\, senior citizen centers and more\, Ben and his sound effect guru\, Pfahl\, bring the Montana story to audiences of all ages. \nThe show includes original songs such as “Escape From Warm Springs” and “Run\, Charlie\, Run\,” original poems like “Rosebud Bob” and “The Town That Didn’t Die” and contributions from legendary Montana artists through the years like Wallace McRae\, Wade Montgomery\, Wylie Gustafson and many more. \nLight refreshments will be served.\nFree will offering\, with proceeds benefitting the Museum. \nLINKS: \n\n\noldmanbenmusic@gmail.com\noldmanben.com\n\nFacebook\n\n\n\nVideo Links: \nChurch (Poem): Unreleased 2026 Single\nhttps://youtu.be/uH4TaDSOy6c \nChopping Wood (Full Band): Original Song\nhttps://youtu.be/GQPJtaQ2NIA \nThe Murder at the Hasmark Saloon: Original Poem (and true story)\nhttps://youtu.be/6HugVRKcTro \nOriginal Song: The Other Side of Montana: Live at the Woodshed\nhttps://youtu.be/q-lrgn0sij0 \nOriginal Song: Billy Hill and Rhonda Jane: New Tales of Old Montana Album\nhttps://youtu.be/jBEudLEyBds
URL:https://ofallonmuseum.com/event/ben-larson-off-the-beaten-path-the-lost-history-of-montana/
LOCATION:O’Fallon Historical Museum\, 718 S. Main\, Baker\, MT\, 59313\, United States
CATEGORIES:Arts and Culture,History,Kids,Live Music
ATTACH;FMTTYPE=image/png:https://ofallonmuseum.com/wp-content/uploads/2026/01/The-Montana-Story-Project-3-e1773082916349.png
ORGANIZER;CN="O'Fallon Historical Museum":MAILTO:museum@falloncountymt.gov
END:VEVENT
END:VCALENDAR