BEGIN:VCALENDAR
VERSION:2.0
PRODID:-//O&#039;Fallon Historical Museum - ECPv6.15.20//NONSGML v1.0//EN
CALSCALE:GREGORIAN
METHOD:PUBLISH
X-ORIGINAL-URL:https://ofallonmuseum.com
X-WR-CALDESC:Events for O&#039;Fallon Historical Museum
REFRESH-INTERVAL;VALUE=DURATION:PT1H
X-Robots-Tag:noindex
X-PUBLISHED-TTL:PT1H
BEGIN:VTIMEZONE
TZID:America/Denver
BEGIN:DAYLIGHT
TZOFFSETFROM:-0700
TZOFFSETTO:-0600
TZNAME:MDT
DTSTART:20250309T090000
END:DAYLIGHT
BEGIN:STANDARD
TZOFFSETFROM:-0600
TZOFFSETTO:-0700
TZNAME:MST
DTSTART:20251102T080000
END:STANDARD
BEGIN:DAYLIGHT
TZOFFSETFROM:-0700
TZOFFSETTO:-0600
TZNAME:MDT
DTSTART:20260308T090000
END:DAYLIGHT
BEGIN:STANDARD
TZOFFSETFROM:-0600
TZOFFSETTO:-0700
TZNAME:MST
DTSTART:20261101T080000
END:STANDARD
BEGIN:DAYLIGHT
TZOFFSETFROM:-0700
TZOFFSETTO:-0600
TZNAME:MDT
DTSTART:20270314T090000
END:DAYLIGHT
BEGIN:STANDARD
TZOFFSETFROM:-0600
TZOFFSETTO:-0700
TZNAME:MST
DTSTART:20271107T080000
END:STANDARD
END:VTIMEZONE
BEGIN:VEVENT
DTSTART;TZID=America/Denver:20260606T100000
DTEND;TZID=America/Denver:20260606T150000
DTSTAMP:20260424T185053
CREATED:20251230T203753Z
LAST-MODIFIED:20251230T210131Z
UID:1926-1780740000-1780758000@ofallonmuseum.com
SUMMARY:Heritage Fest 2026
DESCRIPTION:Heritage Fest is Baker’s annual celebration of the people\, stories\, and everyday history that shaped Fallon County — from early homesteaders and railroads to living traditions still passed down today. \n\n\n\nHosted at the O’Fallon Historical Museum\, the day features live music\, local vendors\, wagon and train rides\, hands-on historical activities\, games and crafts for kids\, and interactive exhibitions throughout the museum grounds. Families are encouraged to explore\, learn\, and participate at their own pace\, making Heritage Fest a true all-ages event. \n\n\n\nIn 2026\, Heritage Fest also looks outward as the nation celebrates America’s 250th birthday. While the country reflects on two and a half centuries of history\, Baker celebrates its own milestones — 118 years as a community and 113 years as Fallon County. Heritage Fest highlights how national history is built from local stories like ours: ordinary people\, small towns\, hard work\, resilience\, and creativity. \n\n\n\nWith a free will offering lunch\, opportunities to connect with local organizations\, and activities designed to be both educational and fun\, Heritage Fest invites residents and visitors alike to celebrate where we come from — and why local history still matters.
URL:https://ofallonmuseum.com/event/heritage-fest-2026/
LOCATION:O’Fallon Historical Museum\, 718 S. Main\, Baker\, MT\, 59313\, United States
CATEGORIES:Family,History,Kids,Live Music
ATTACH;FMTTYPE=image/png:https://ofallonmuseum.com/wp-content/uploads/2025/12/Heritage-Fest-2025-2.png
ORGANIZER;CN="O'Fallon Historical Museum":MAILTO:museum@falloncountymt.gov
END:VEVENT
END:VCALENDAR