BEGIN:VCALENDAR
VERSION:2.0
PRODID:-//O&#039;Fallon Historical Museum - ECPv6.15.20//NONSGML v1.0//EN
CALSCALE:GREGORIAN
METHOD:PUBLISH
X-ORIGINAL-URL:https://ofallonmuseum.com
X-WR-CALDESC:Events for O&#039;Fallon Historical Museum
REFRESH-INTERVAL;VALUE=DURATION:PT1H
X-Robots-Tag:noindex
X-PUBLISHED-TTL:PT1H
BEGIN:VTIMEZONE
TZID:America/Denver
BEGIN:DAYLIGHT
TZOFFSETFROM:-0700
TZOFFSETTO:-0600
TZNAME:MDT
DTSTART:20250309T090000
END:DAYLIGHT
BEGIN:STANDARD
TZOFFSETFROM:-0600
TZOFFSETTO:-0700
TZNAME:MST
DTSTART:20251102T080000
END:STANDARD
BEGIN:DAYLIGHT
TZOFFSETFROM:-0700
TZOFFSETTO:-0600
TZNAME:MDT
DTSTART:20260308T090000
END:DAYLIGHT
BEGIN:STANDARD
TZOFFSETFROM:-0600
TZOFFSETTO:-0700
TZNAME:MST
DTSTART:20261101T080000
END:STANDARD
BEGIN:DAYLIGHT
TZOFFSETFROM:-0700
TZOFFSETTO:-0600
TZNAME:MDT
DTSTART:20270314T090000
END:DAYLIGHT
BEGIN:STANDARD
TZOFFSETFROM:-0600
TZOFFSETTO:-0700
TZNAME:MST
DTSTART:20271107T080000
END:STANDARD
END:VTIMEZONE
BEGIN:VEVENT
DTSTART;TZID=America/Denver:20260522T150000
DTEND;TZID=America/Denver:20260522T170000
DTSTAMP:20260424T113725
CREATED:20251230T203301Z
LAST-MODIFIED:20260421T191522Z
UID:1923-1779462000-1779469200@ofallonmuseum.com
SUMMARY:Keith Alessi:  Tomatoes Tried to Kill Me\, but Banjos Saved My Life
DESCRIPTION:Join us at the Museum for an unforgettable afternoon with storyteller and musician Keith Alessi\, as he shares his one-man show Tomatoes Tried to Kill Me\, but Banjos Saved My Life. \n\n\n\nBlending humor\, heart\, and live banjo music\, Alessi tells the true story of a life-changing moment and the unexpected ways music\, resilience\, and community can carry us through hardship. The performance weaves spoken word and song into an engaging\, deeply human experience that is by turns funny\, moving\, and inspiring. \n\n\n\nThis event is suitable for teens and adults and offers a rare opportunity to experience professional storytelling and music in an intimate museum setting. \n\nThe event is a Free Will Offering\, with all proceeds going to the O’Fallon Historical Museum\, the Fallon County Mental Health Council and the Baker Arts & Culture Council https://www.tomatoestriedtokillme.com/To reserve your free tickets\, please visit:  https://museum.myeventscenter.com/
URL:https://ofallonmuseum.com/event/keith-alessi-tomatoes-tried-to-kill-me-but-banjos-saved-my-life/
LOCATION:O’Fallon Historical Museum\, 718 S. Main\, Baker\, MT\, 59313\, United States
CATEGORIES:Family,Live Music,Performing Arts
ATTACH;FMTTYPE=image/png:https://ofallonmuseum.com/wp-content/uploads/2025/12/Public-domain-image-of-vintage-Krampus-postcard.-It-features-an-illustration-of-the-Krampus-stuffing-a-crying-child-into-a-basket.-2-e1766165436881.png
ORGANIZER;CN="O'Fallon Historical Museum":MAILTO:museum@falloncountymt.gov
END:VEVENT
BEGIN:VEVENT
DTSTART;TZID=America/Denver:20260523T130000
DTEND;TZID=America/Denver:20260523T150000
DTSTAMP:20260424T113725
CREATED:20260421T191444Z
LAST-MODIFIED:20260421T191444Z
UID:2010-1779541200-1779548400@ofallonmuseum.com
SUMMARY:Keith Alessi: Tomatoes Tried to Kill Me\, but Banjos Saved My Life (second show)
DESCRIPTION:Join us at the Museum for an unforgettable afternoon with storyteller and musician Keith Alessi\, as he shares his one-man show Tomatoes Tried to Kill Me\, but Banjos Saved My Life. \nBlending humor\, heart\, and live banjo music\, Alessi tells the true story of a life-changing moment and the unexpected ways music\, resilience\, and community can carry us through hardship. The performance weaves spoken word and song into an engaging\, deeply human experience that is by turns funny\, moving\, and inspiring. \nThis event is suitable for teens and adults and offers a rare opportunity to experience professional storytelling and music in an intimate museum setting. \nThe event is a Free Will Offering\, with all proceeds going to the O’Fallon Historical Museum\, the Fallon County Mental Health Council and the Baker Arts & Culture Council https://www.tomatoestriedtokillme.com/ \nTo reserve your free tickets\, please visit:  https://museum.myeventscenter.com/
URL:https://ofallonmuseum.com/event/keith-alessi-tomatoes-tried-to-kill-me-but-banjos-saved-my-life-second-show/
LOCATION:O’Fallon Historical Museum\, 718 S. Main\, Baker\, MT\, 59313\, United States
CATEGORIES:Arts and Culture,Live Music
ATTACH;FMTTYPE=image/png:https://ofallonmuseum.com/wp-content/uploads/2025/12/Public-domain-image-of-vintage-Krampus-postcard.-It-features-an-illustration-of-the-Krampus-stuffing-a-crying-child-into-a-basket.-2-e1766165436881.png
ORGANIZER;CN="O'Fallon Historical Museum":MAILTO:museum@falloncountymt.gov
END:VEVENT
BEGIN:VEVENT
DTSTART;TZID=America/Denver:20260606T100000
DTEND;TZID=America/Denver:20260606T150000
DTSTAMP:20260424T113725
CREATED:20251230T203753Z
LAST-MODIFIED:20251230T210131Z
UID:1926-1780740000-1780758000@ofallonmuseum.com
SUMMARY:Heritage Fest 2026
DESCRIPTION:Heritage Fest is Baker’s annual celebration of the people\, stories\, and everyday history that shaped Fallon County — from early homesteaders and railroads to living traditions still passed down today. \n\n\n\nHosted at the O’Fallon Historical Museum\, the day features live music\, local vendors\, wagon and train rides\, hands-on historical activities\, games and crafts for kids\, and interactive exhibitions throughout the museum grounds. Families are encouraged to explore\, learn\, and participate at their own pace\, making Heritage Fest a true all-ages event. \n\n\n\nIn 2026\, Heritage Fest also looks outward as the nation celebrates America’s 250th birthday. While the country reflects on two and a half centuries of history\, Baker celebrates its own milestones — 118 years as a community and 113 years as Fallon County. Heritage Fest highlights how national history is built from local stories like ours: ordinary people\, small towns\, hard work\, resilience\, and creativity. \n\n\n\nWith a free will offering lunch\, opportunities to connect with local organizations\, and activities designed to be both educational and fun\, Heritage Fest invites residents and visitors alike to celebrate where we come from — and why local history still matters.
URL:https://ofallonmuseum.com/event/heritage-fest-2026/
LOCATION:O’Fallon Historical Museum\, 718 S. Main\, Baker\, MT\, 59313\, United States
CATEGORIES:Family,History,Kids,Live Music
ATTACH;FMTTYPE=image/png:https://ofallonmuseum.com/wp-content/uploads/2025/12/Heritage-Fest-2025-2.png
ORGANIZER;CN="O'Fallon Historical Museum":MAILTO:museum@falloncountymt.gov
END:VEVENT
BEGIN:VEVENT
DTSTART;VALUE=DATE:20260718
DTEND;VALUE=DATE:20260719
DTSTAMP:20260424T113725
CREATED:20251230T214809Z
LAST-MODIFIED:20251230T214809Z
UID:1951-1784332800-1784419199@ofallonmuseum.com
SUMMARY:Plevna Jamboree
DESCRIPTION:The Plevna Jamboree is an annual community celebration honoring the history\, culture\, and heritage of the Plevna area. The event features live music\, food and drink\, local vendors\, games\, and family-friendly activities throughout downtown Plevna.\n\n \n\nDrawing on last year’s format\, the Jamboree also includes historical reenactments\, demonstrations\, and hands-on crafts that reflect the agricultural\, immigrant\, and small-town traditions that shaped the community. The O’Fallon Historical Museum supports the event by assisting with historical context and helping identify appropriate heritage-based activities.\n\n \n\nThe Plevna Jamboree brings together residents and visitors for a lively day that celebrates community pride and local history.\nWhile you’re in town\, be sure to stop by the Museum for a deeper look at the history of the Plevna / Westmore area!
URL:https://ofallonmuseum.com/event/plevna-jamboree/
LOCATION:Downtown Plevna\, Plevna\, MT\, 59313\, United States
CATEGORIES:Family,History,Kids,Live Music
ATTACH;FMTTYPE=image/jpeg:https://ofallonmuseum.com/wp-content/uploads/2025/12/596810741_122102464815150552_3178312515965292871_n.jpg
END:VEVENT
END:VCALENDAR